BEGIN:VCALENDAR
VERSION:2.0
PRODID:-//365 Twin Cities - ECPv6.15.20//NONSGML v1.0//EN
CALSCALE:GREGORIAN
METHOD:PUBLISH
X-WR-CALNAME:365 Twin Cities
X-ORIGINAL-URL:https://365twincities.com
X-WR-CALDESC:Events for 365 Twin Cities
REFRESH-INTERVAL;VALUE=DURATION:PT1H
X-Robots-Tag:noindex
X-PUBLISHED-TTL:PT1H
BEGIN:VTIMEZONE
TZID:America/Chicago
BEGIN:DAYLIGHT
TZOFFSETFROM:-0600
TZOFFSETTO:-0500
TZNAME:CDT
DTSTART:20200308T080000
END:DAYLIGHT
BEGIN:STANDARD
TZOFFSETFROM:-0500
TZOFFSETTO:-0600
TZNAME:CST
DTSTART:20201101T070000
END:STANDARD
BEGIN:DAYLIGHT
TZOFFSETFROM:-0600
TZOFFSETTO:-0500
TZNAME:CDT
DTSTART:20210314T080000
END:DAYLIGHT
BEGIN:STANDARD
TZOFFSETFROM:-0500
TZOFFSETTO:-0600
TZNAME:CST
DTSTART:20211107T070000
END:STANDARD
BEGIN:DAYLIGHT
TZOFFSETFROM:-0600
TZOFFSETTO:-0500
TZNAME:CDT
DTSTART:20220313T080000
END:DAYLIGHT
BEGIN:STANDARD
TZOFFSETFROM:-0500
TZOFFSETTO:-0600
TZNAME:CST
DTSTART:20221106T070000
END:STANDARD
END:VTIMEZONE
BEGIN:VEVENT
DTSTART;TZID=America/Chicago:20210725T012614
DTEND;TZID=America/Chicago:20210725T012614
DTSTAMP:20260421T003733
CREATED:20150913T184958Z
LAST-MODIFIED:20150913T184958Z
UID:10101-1627176374-1627176374@365twincities.com
SUMMARY:A Taste of Greece - Minneapolis Greek Festival
DESCRIPTION:Feeling the need to get out and experience the world\, but don’t really want to leave the comfort of your own neighborhood? Look no further than the Minneapolis Greek Festival\, A Taste of Greece! This three day festival\, hosted by St. Mary’s Greek Orthodox Church\, will allow you the opportunity to experience authentic Greek food\, live music and cultural experiences.  \nThe festival will be beginning on Friday\, September 11th and will run through Sunday\, September 13th. Admission is free\, and food and beverage tickets will be available for just $1.00 onsite. Talk about a cheap weekend get away! \nThe menu accompanying A Taste of Greece is massive. Take a look at the festival’s website (http://mplsgreekfest.org/food/) to see a complete list of what will be offered. But the Greek Festival is more than just about food\, there are also a variety of fun activities and events planned. You’ll be able to enjoy live music and performances\, take Greek dance lessons\, watch food demonstrations\, and shop in an authentic Greek boutique.   \nAs if all of that wasn’t enough\, you can also participate in the 5K Toga Run and Walk! The marathon\, which will benefit Chloe’s Fight\, will take place on Friday\, September 11th at 6:30pm. For more information on Chloe’s Fight\, and to register for the marathon\, visit www.chloesfight.org. \nThis year’s festival will be providing specific support to several organizations\, including St. Nicholas National Shrine at the World Trade Center\, Chloe’s Fight Rare Disease Foundation\, and Joyce Food Shelf.To learn more about each of these organizations\, visit http://mplsgreekfest.org/charity/.
URL:https://365twincities.com/event/a-taste-of-greece-minneapolis-greek-festival/
LOCATION:MN
CATEGORIES:Festival
END:VEVENT
BEGIN:VEVENT
DTSTART;VALUE=DATE:20210722
DTEND;VALUE=DATE:20210725
DTSTAMP:20260421T003733
CREATED:20210720T160948Z
LAST-MODIFIED:20210720T160948Z
UID:11904-1626912000-1627171199@365twincities.com
SUMMARY:Twin Cities Summer Jam 2021
DESCRIPTION:Here is the 2021 lineup…  \nClick to see the Twin Cities Summer Jam Lineup  \nThere are still tickets available here:  https://tcsummerjam.com/tickets/ \nDo not miss out on this year’s show!
URL:https://365twincities.com/event/twin-cities-summer-jam-2021/
LOCATION:MN
CATEGORIES:Concert,Festival
ATTACH;FMTTYPE=image/png:https://365twincities.com/wp-content/uploads/2021/07/lineup.png
END:VEVENT
BEGIN:VEVENT
DTSTART;VALUE=DATE:20210719
DTEND;VALUE=DATE:20210726
DTSTAMP:20260421T003733
CREATED:20210719T145027Z
LAST-MODIFIED:20210720T154251Z
UID:11887-1626652800-1627257599@365twincities.com
SUMMARY:3M Open at TPC Twin Cities in Blaine\, MN
DESCRIPTION:The 3M open is back at TPC Twin Cities in Blaine!  Professional golfers from around the world will converge on Minnesota to compete!  It is a full week of family fun for everyone! \nFor a complete list of things to do and how to get involved\, be sure to check out the website at https://3mopen.com/ \nHere is a list of things going on during the week. \nSCHEDULE OF EVENTS\nMonday\, July 19\, 2021\nCourse Closed To The Public\n11:00 AM	Monday Pro-AM\n4:30 PM	Executive Women’s Day (Ticket Required) \nTuesday\, July 20\, 2021\nGates Open at 8:30 AM\nAll Day	Professional Practice Rounds \nWednesday\, July 21\, 2021\nGates Open at 6:30 AM\nAll Day	EMC Championship Pro-Am (Tee Times 6:40-8:50am and 12:05-2:05pm)\n5:30	Celebrity Compass Challenge (Holes 10-12) \nThursday\, July 22\, 2021\nR.S. Hughes Day\nGates Open at 6:30 AM\nAll Day	3M Open – Round 1\n7:00 AM*	Tee Times Begin off #1 and #10 \nFriday\, July 23\, 2021\nSPIRE Credit Union Day\nGates Open at 6:30 AM\nAll Day	3M Open – Round 2\n7:00 AM*	Tee Times Begin off #1 and #10 \nSaturday\, July 24\, 2021\nGates Open at 6:30 AM\nAll Day	3M Open – Round 3\n7:00 AM*	Tee Times Begin off #1 \nSunday\, July 25\, 2021\nGates Open at 6:30 AM\nAll Day	3M Open – Round 4\n8:00 AM*	Tee Times Begin off #1\nAfter Play	End of Play + Champions Ceremony \n*Times are approximate. \nAll events occur at TPC Twin Cities in Blaine\, MN\, unless otherwise noted.  \nEnjoy this unique thing to do in the Twin Cities!
URL:https://365twincities.com/event/3m-open-at-tpc-twin-cities-in-blaine-mn/
LOCATION:TPC Twin Cities\, 11444 Tournament Players Parkway\, Blaine\, MN\, 55449\, United States
CATEGORIES:Golf,Sports
ATTACH;FMTTYPE=image/png:https://365twincities.com/wp-content/uploads/2021/07/3m-open-short.png
END:VEVENT
END:VCALENDAR